BEGIN:VCALENDAR
VERSION:2.0
PRODID:-//IRI | International Registries, Inc. - ECPv6.9.0//NONSGML v1.0//EN
CALSCALE:GREGORIAN
METHOD:PUBLISH
X-WR-CALNAME:IRI | International Registries, Inc.
X-ORIGINAL-URL:https://wpsso.register-iri.com
X-WR-CALDESC:Events for IRI | International Registries, Inc.
REFRESH-INTERVAL;VALUE=DURATION:PT1H
X-Robots-Tag:noindex
X-PUBLISHED-TTL:PT1H
BEGIN:VTIMEZONE
TZID:Europe/London
BEGIN:DAYLIGHT
TZOFFSETFROM:+0000
TZOFFSETTO:+0100
TZNAME:BST
DTSTART:20240331T010000
END:DAYLIGHT
BEGIN:STANDARD
TZOFFSETFROM:+0100
TZOFFSETTO:+0000
TZNAME:GMT
DTSTART:20241027T010000
END:STANDARD
TZID:Atlantic/Bermuda
BEGIN:DAYLIGHT
TZOFFSETFROM:-0400
TZOFFSETTO:-0300
TZNAME:ADT
DTSTART:20240310T060000
END:DAYLIGHT
BEGIN:STANDARD
TZOFFSETFROM:-0300
TZOFFSETTO:-0400
TZNAME:AST
DTSTART:20241103T050000
END:STANDARD
TZID:Europe/Athens
BEGIN:DAYLIGHT
TZOFFSETFROM:+0200
TZOFFSETTO:+0300
TZNAME:EEST
DTSTART:20240331T010000
END:DAYLIGHT
BEGIN:STANDARD
TZOFFSETFROM:+0300
TZOFFSETTO:+0200
TZNAME:EET
DTSTART:20241027T010000
END:STANDARD
TZID:America/New_York
BEGIN:DAYLIGHT
TZOFFSETFROM:-0500
TZOFFSETTO:-0400
TZNAME:EDT
DTSTART:20240310T070000
END:DAYLIGHT
BEGIN:STANDARD
TZOFFSETFROM:-0400
TZOFFSETTO:-0500
TZNAME:EST
DTSTART:20241103T060000
END:STANDARD
TZID:Asia/Tokyo
BEGIN:STANDARD
TZOFFSETFROM:+0900
TZOFFSETTO:+0900
TZNAME:JST
DTSTART:20240101T000000
END:STANDARD
TZID:America/Halifax
BEGIN:DAYLIGHT
TZOFFSETFROM:-0400
TZOFFSETTO:-0300
TZNAME:ADT
DTSTART:20240310T060000
END:DAYLIGHT
BEGIN:STANDARD
TZOFFSETFROM:-0300
TZOFFSETTO:-0400
TZNAME:AST
DTSTART:20241103T050000
END:STANDARD
TZID:Europe/Istanbul
BEGIN:STANDARD
TZOFFSETFROM:+0300
TZOFFSETTO:+0300
TZNAME:+03
DTSTART:20240101T000000
END:STANDARD
TZID:Europe/Paris
BEGIN:DAYLIGHT
TZOFFSETFROM:+0100
TZOFFSETTO:+0200
TZNAME:CEST
DTSTART:20240331T010000
END:DAYLIGHT
BEGIN:STANDARD
TZOFFSETFROM:+0200
TZOFFSETTO:+0100
TZNAME:CET
DTSTART:20241027T010000
END:STANDARD
TZID:Asia/Singapore
BEGIN:STANDARD
TZOFFSETFROM:+0800
TZOFFSETTO:+0800
TZNAME:+08
DTSTART:20240101T000000
END:STANDARD
TZID:America/New_York
BEGIN:DAYLIGHT
TZOFFSETFROM:-0500
TZOFFSETTO:-0400
TZNAME:EDT
DTSTART:20240310T070000
END:DAYLIGHT
BEGIN:STANDARD
TZOFFSETFROM:-0400
TZOFFSETTO:-0500
TZNAME:EST
DTSTART:20241103T060000
END:STANDARD
TZID:Europe/Helsinki
BEGIN:DAYLIGHT
TZOFFSETFROM:+0200
TZOFFSETTO:+0300
TZNAME:EEST
DTSTART:20240331T010000
END:DAYLIGHT
BEGIN:STANDARD
TZOFFSETFROM:+0300
TZOFFSETTO:+0200
TZNAME:EET
DTSTART:20241027T010000
END:STANDARD
TZID:Europe/Monaco
BEGIN:DAYLIGHT
TZOFFSETFROM:+0100
TZOFFSETTO:+0200
TZNAME:CEST
DTSTART:20240331T010000
END:DAYLIGHT
BEGIN:STANDARD
TZOFFSETFROM:+0200
TZOFFSETTO:+0100
TZNAME:CET
DTSTART:20241027T010000
END:STANDARD
TZID:Asia/Dubai
BEGIN:STANDARD
TZOFFSETFROM:+0400
TZOFFSETTO:+0400
TZNAME:+04
DTSTART:20240101T000000
END:STANDARD
TZID:America/Sao_Paulo
BEGIN:STANDARD
TZOFFSETFROM:-0300
TZOFFSETTO:-0300
TZNAME:-03
DTSTART:20240101T000000
END:STANDARD
TZID:America/Argentina/Buenos_Aires
BEGIN:STANDARD
TZOFFSETFROM:-0300
TZOFFSETTO:-0300
TZNAME:-03
DTSTART:20240101T000000
END:STANDARD
TZID:Europe/Amsterdam
BEGIN:DAYLIGHT
TZOFFSETFROM:+0100
TZOFFSETTO:+0200
TZNAME:CEST
DTSTART:20240331T010000
END:DAYLIGHT
BEGIN:STANDARD
TZOFFSETFROM:+0200
TZOFFSETTO:+0100
TZNAME:CET
DTSTART:20241027T010000
END:STANDARD
TZID:Europe/Moscow
BEGIN:STANDARD
TZOFFSETFROM:+0300
TZOFFSETTO:+0300
TZNAME:MSK
DTSTART:20240101T000000
END:STANDARD
END:VTIMEZONE
BEGIN:VEVENT
DTSTART;TZID=Europe/London:20241016T080000
DTEND;TZID=Europe/London:20241017T170000
DTSTAMP:20260426T042639
CREATED:20240923T104852Z
LAST-MODIFIED:20241008T065324Z
UID:35817-1729065600-1729184400@wpsso.register-iri.com
SUMMARY:ACI's Maritime HR and Crew Management Summit 2024
DESCRIPTION:
URL:https://wpsso.register-iri.com/event/maritime-hr-and-crew-management-summit/
LOCATION:Holiday Inn London-Kensington\, Wrights Lane Kensington\, London\, W8 5SP\, United Kingdom
CATEGORIES:Conference
END:VEVENT
BEGIN:VEVENT
DTSTART;TZID=Atlantic/Bermuda:20241015T080000
DTEND;TZID=Atlantic/Bermuda:20241016T170000
DTSTAMP:20260426T042639
CREATED:20240805T094140Z
LAST-MODIFIED:20240927T100124Z
UID:35173-1728979200-1729098000@wpsso.register-iri.com
SUMMARY:STEP Bermuda Conference
DESCRIPTION:
URL:https://wpsso.register-iri.com/event/step-bermuda-conference/
LOCATION:Bermuda Underwater Exploration Institute\, 40 Crow Lane\,\, Pembroke\, HM 19\, Bermuda
CATEGORIES:Conference
END:VEVENT
BEGIN:VEVENT
DTSTART;TZID=Europe/Athens:20241015T080000
DTEND;TZID=Europe/Athens:20241015T170000
DTSTAMP:20260426T042639
CREATED:20240805T093552Z
LAST-MODIFIED:20240927T064227Z
UID:35171-1728979200-1729011600@wpsso.register-iri.com
SUMMARY:Marine Money 2024 Greek Ship Finance Forum
DESCRIPTION:
URL:https://wpsso.register-iri.com/event/2024-greek-ship-finance-forum/
LOCATION:Eugenides Foundation\, Leof. Andrea Siggrou 387\, Paleo Faliro\, 175 64\, Greece
CATEGORIES:Conference
END:VEVENT
BEGIN:VEVENT
DTSTART;TZID=America/New_York:20241015T080000
DTEND;TZID=America/New_York:20241015T170000
DTSTAMP:20260426T042639
CREATED:20240805T093133Z
LAST-MODIFIED:20240927T103953Z
UID:35169-1728979200-1729011600@wpsso.register-iri.com
SUMMARY:16th Annual Capital Link New York Maritime Forum
DESCRIPTION:
URL:https://wpsso.register-iri.com/event/16th-annual-capital-link-new-york-maritime-forum/
LOCATION:The Metropolitan Club\, One East 60th Street\, New York\, NY\, 10022\, United States
CATEGORIES:Conference
END:VEVENT
BEGIN:VEVENT
DTSTART;TZID=Asia/Tokyo:20241015T080000
DTEND;TZID=Asia/Tokyo:20241015T170000
DTSTAMP:20260426T042639
CREATED:20240805T092602Z
LAST-MODIFIED:20240805T092602Z
UID:35167-1728979200-1729011600@wpsso.register-iri.com
SUMMARY:TradeWinds Shipowners Forum Japan 2024
DESCRIPTION:
URL:https://wpsso.register-iri.com/event/tradewinds-shipowners-forum-japan-2024/
LOCATION:Conrad Tokyo\, 1 Chome-9-１ Higashishinbashi\, Minato\, Tokyo\, 105-7337\, Japan
CATEGORIES:Convention
END:VEVENT
BEGIN:VEVENT
DTSTART;TZID=America/Halifax:20241014T080000
DTEND;TZID=America/Halifax:20241016T170000
DTSTAMP:20260426T042639
CREATED:20240927T052221Z
LAST-MODIFIED:20240927T070853Z
UID:35869-1728892800-1729098000@wpsso.register-iri.com
SUMMARY:SNAME Maritime Convention 2024
DESCRIPTION:
URL:https://wpsso.register-iri.com/event/sname-maritime-convention/
LOCATION:Hilton Norfolk The Main\, 100 E. Main Street\,\, Norfolk\, VA\, 23510\, United States
CATEGORIES:Conference
END:VEVENT
BEGIN:VEVENT
DTSTART;TZID=Europe/Athens:20241011T083000
DTEND;TZID=Europe/Athens:20241011T170000
DTSTAMP:20260426T042639
CREATED:20240730T102654Z
LAST-MODIFIED:20241001T140336Z
UID:35056-1728635400-1728666000@wpsso.register-iri.com
SUMMARY:10th International Compliance Forum
DESCRIPTION:
URL:https://wpsso.register-iri.com/event/10th-international-compliance-forum/
LOCATION:Hilton Nicosia Hotel\, Achaion 1\, Egkomi\, Nicosia\, 2413\, Cyprus
CATEGORIES:Conference
END:VEVENT
BEGIN:VEVENT
DTSTART;TZID=Europe/Istanbul:20241010T160000
DTEND;TZID=Europe/Istanbul:20241012T190000
DTSTAMP:20260426T042639
CREATED:20240730T115834Z
LAST-MODIFIED:20240730T115834Z
UID:35062-1728576000-1728759600@wpsso.register-iri.com
SUMMARY:AIJA Crossing Bridges: Annual Labour Law Conference // Corporate and M&A Commission Seminar
DESCRIPTION:
URL:https://wpsso.register-iri.com/event/aija-crossing-bridges-annual-labour-law-conference-corporate-and-ma-commission-seminar/
LOCATION:CVK Park Bosphorus Hotel\, Gümüşsuyu\, İnönü Cd. No: 8\, Istanbul\, 34437\, Turkey
CATEGORIES:Conference,Seminar
END:VEVENT
BEGIN:VEVENT
DTSTART;TZID=Europe/Paris:20241009T090000
DTEND;TZID=Europe/Paris:20241010T143000
DTSTAMP:20260426T042639
CREATED:20240919T110316Z
LAST-MODIFIED:20240927T111344Z
UID:35761-1728464400-1728570600@wpsso.register-iri.com
SUMMARY:Floating Offshore Wind 2024
DESCRIPTION:
URL:https://wpsso.register-iri.com/event/floating-offshore-wind-2024/
LOCATION:P&J Live\, East Burn Road\, Stoneywood\,\, Aberdeen\, AB21 9FX\, United Kingdom
CATEGORIES:Conference,Exhibition
END:VEVENT
BEGIN:VEVENT
DTSTART;TZID=Europe/Athens:20241009T080000
DTEND;TZID=Europe/Athens:20241011T170000
DTSTAMP:20260426T042639
CREATED:20240730T075152Z
LAST-MODIFIED:20240926T103025Z
UID:35046-1728460800-1728666000@wpsso.register-iri.com
SUMMARY:WISTA International AGM and Conference 2024
DESCRIPTION:
URL:https://wpsso.register-iri.com/event/wista-international-agm-and-conference-2024/
LOCATION:Amathus Beach Hotel Limassol\, 75 Amathountos Avenue\, Limassol\, 4532\, Cyprus
CATEGORIES:Conference,Meeting
END:VEVENT
BEGIN:VEVENT
DTSTART;TZID=Asia/Singapore:20241008T090000
DTEND;TZID=Asia/Singapore:20241010T163000
DTSTAMP:20260426T042639
CREATED:20241007T052258Z
LAST-MODIFIED:20241007T053821Z
UID:36044-1728378000-1728577800@wpsso.register-iri.com
SUMMARY:SIBCON 2024
DESCRIPTION:
URL:https://wpsso.register-iri.com/event/sibcon-2024/
LOCATION:Resorts World Sentosa\, 8 Sentosa Gateway\, Sentosa Island\, 098269\, Singapore
CATEGORIES:Conference,Exhibition
END:VEVENT
BEGIN:VEVENT
DTSTART;TZID=Europe/Athens:20241003T090000
DTEND;TZID=Europe/Athens:20241003T180000
DTSTAMP:20260426T042639
CREATED:20240718T071916Z
LAST-MODIFIED:20241003T042844Z
UID:34967-1727946000-1727978400@wpsso.register-iri.com
SUMMARY:15th SAFETY4SEA Athens Forum
DESCRIPTION:
URL:https://wpsso.register-iri.com/event/15th-safety4sea-athens-forum/
LOCATION:Grand Hyatt Athens\, 115\, Syngrou Avenue\, Athens\, 117 45\, Greece
CATEGORIES:Conference
END:VEVENT
BEGIN:VEVENT
DTSTART;TZID=Europe/Istanbul:20241002T180000
DTEND;TZID=Europe/Istanbul:20241004T170000
DTSTAMP:20260426T042639
CREATED:20240919T100841Z
LAST-MODIFIED:20240919T101638Z
UID:35750-1727892000-1728061200@wpsso.register-iri.com
SUMMARY:Transcontinental Trusts Istanbul 2024
DESCRIPTION:
URL:https://wpsso.register-iri.com/event/transcontinental-trusts-istanbul-2024/
LOCATION:InterContinental Istanbul\, Asker Ocagi Caddesi No. 1\, Istanbul\, 34435\, Turkey
CATEGORIES:Conference
END:VEVENT
BEGIN:VEVENT
DTSTART;TZID=America/New_York:20241002T080000
DTEND;TZID=America/New_York:20241002T183000
DTSTAMP:20260426T042639
CREATED:20240911T072450Z
LAST-MODIFIED:20240923T065412Z
UID:35627-1727856000-1727893800@wpsso.register-iri.com
SUMMARY:IMarEST Houston Conference 2024
DESCRIPTION:
URL:https://wpsso.register-iri.com/event/houston-conference-2024-next-gen-marine-offshore-systems/
LOCATION:DNV Conference Center\, 1400 Ravello Dr\,\, Katy\, TX\, United States
CATEGORIES:Conference
END:VEVENT
BEGIN:VEVENT
DTSTART;TZID=Europe/Helsinki:20240930T080000
DTEND;TZID=Europe/Helsinki:20241005T170000
DTSTAMP:20260426T042639
CREATED:20240705T095116Z
LAST-MODIFIED:20241003T081319Z
UID:34870-1727683200-1728147600@wpsso.register-iri.com
SUMMARY:Naples Shipping Week
DESCRIPTION:
URL:https://wpsso.register-iri.com/event/naples-shipping-week/
LOCATION:Aula Magna Federico II University\, Corso Umberto I\, Napoli\, Italy
CATEGORIES:Conference
END:VEVENT
BEGIN:VEVENT
DTSTART;TZID=Europe/Monaco:20240927T170000
DTEND;TZID=Europe/Monaco:20240927T220000
DTSTAMP:20260426T042639
CREATED:20240705T093846Z
LAST-MODIFIED:20240923T053343Z
UID:34868-1727456400-1727474400@wpsso.register-iri.com
SUMMARY:Mare Forum's 6th Super Yacht Europe 2024
DESCRIPTION:
URL:https://wpsso.register-iri.com/event/6th-super-yacht-europe-2024/
LOCATION:Yacht Club De Monaco\, Quai Louis II\, Monaco\, 98000\, Monaco
CATEGORIES:Conference
END:VEVENT
BEGIN:VEVENT
DTSTART;TZID=Asia/Dubai:20240926T090000
DTEND;TZID=Asia/Dubai:20240926T180000
DTSTAMP:20260426T042639
CREATED:20240911T105429Z
LAST-MODIFIED:20240911T110633Z
UID:35640-1727341200-1727373600@wpsso.register-iri.com
SUMMARY:The Maritime Standard Transportation and Climate Change Conference
DESCRIPTION:
URL:https://wpsso.register-iri.com/event/the-maritime-standard-transportation-and-climate-change-conference/
LOCATION:Saadiyat Rotana Resort\, Saadiyat Island\, Abu Dhabi\, United Arab Emirates
CATEGORIES:Conference
ORGANIZER;CN="The Maritime Standard":MAILTO:info@themaritimestandard.com
END:VEVENT
BEGIN:VEVENT
DTSTART;TZID=America/Sao_Paulo:20240926T080000
DTEND;TZID=America/Sao_Paulo:20240927T170000
DTSTAMP:20260426T042639
CREATED:20240805T075957Z
LAST-MODIFIED:20240805T075957Z
UID:35160-1727337600-1727456400@wpsso.register-iri.com
SUMMARY:SPE Brazil FPSO Symposium
DESCRIPTION:
URL:https://wpsso.register-iri.com/event/spe-brazil-fpso-symposium/
LOCATION:Windsor Florida Hotel\, R. Ferreira Viana\, 81 - CEP\, Rio de Janeiro\, 22210-040\, Brazil
CATEGORIES:Conference
END:VEVENT
BEGIN:VEVENT
DTSTART;TZID=America/Argentina/Buenos_Aires:20240926T080000
DTEND;TZID=America/Argentina/Buenos_Aires:20240927T170000
DTSTAMP:20260426T042639
CREATED:20240416T062458Z
LAST-MODIFIED:20240912T060122Z
UID:33796-1727337600-1727456400@wpsso.register-iri.com
SUMMARY:STEP LATAM CONFERENCE
DESCRIPTION:
URL:https://wpsso.register-iri.com/event/step-latam-conference-2024/
LOCATION:Centro Naval Buenos Aires\, Florida 801\, Buenos Aires\, C1005AAQ\, Argentina
CATEGORIES:Conference
END:VEVENT
BEGIN:VEVENT
DTSTART;TZID=Europe/Monaco:20240925T083000
DTEND;TZID=Europe/Monaco:20240925T233000
DTSTAMP:20260426T042639
CREATED:20240918T053231Z
LAST-MODIFIED:20240918T055323Z
UID:35732-1727253000-1727307000@wpsso.register-iri.com
SUMMARY:IYBA Superyacht Law Summit 2024
DESCRIPTION:
URL:https://wpsso.register-iri.com/event/iyba-superyacht-law-summit-2024/
LOCATION:Yacht Club De Monaco\, Quai Louis II\, Monaco\, 98000\, Monaco
CATEGORIES:Conference
END:VEVENT
BEGIN:VEVENT
DTSTART;VALUE=DATE:20240925
DTEND;VALUE=DATE:20240929
DTSTAMP:20260426T042639
CREATED:20240701T110255Z
LAST-MODIFIED:20240905T102401Z
UID:34784-1727222400-1727567999@wpsso.register-iri.com
SUMMARY:Monaco Yacht Show
DESCRIPTION:
URL:https://wpsso.register-iri.com/event/monaco-yacht-show-4/
LOCATION:Port Hercules\, 6 Quai Antoine 1er.\, Monaco\, 98011\, Monaco
CATEGORIES:Conference,Exhibition,Yacht Show
END:VEVENT
BEGIN:VEVENT
DTSTART;TZID=Europe/Amsterdam:20240924T090000
DTEND;TZID=Europe/Amsterdam:20240925T170000
DTSTAMP:20260426T042639
CREATED:20240801T110750Z
LAST-MODIFIED:20240912T074705Z
UID:35117-1727168400-1727283600@wpsso.register-iri.com
SUMMARY:Maritime Decarbonisation\, Europe: Conference\, Awards & Exhibition 2024
DESCRIPTION:
URL:https://wpsso.register-iri.com/event/maritime-decarbonisation-europe-conference-awards-exhibition-2024-2/
LOCATION:Hilton Amsterdam\, Ballrooms A+B+C / Diamond\, Staten & Nassau Rooms\, Apollolaan 138\, Amsterdam\, 1077 BG\, Netherlands
CATEGORIES:Conference,Exhibition,Awards
END:VEVENT
BEGIN:VEVENT
DTSTART;TZID=Asia/Singapore:20240924T080000
DTEND;TZID=Asia/Singapore:20240925T173000
DTSTAMP:20260426T042639
CREATED:20240718T072506Z
LAST-MODIFIED:20240902T114242Z
UID:34971-1727164800-1727285400@wpsso.register-iri.com
SUMMARY:2024 Marine Money Week Asia
DESCRIPTION:
URL:https://wpsso.register-iri.com/event/maritime-decarbonisation-europe-conference-awards-exhibition-2024/
LOCATION:St. Regis Hotel Singapore\, John Jacob Ballroom\, 29 Tanglin Road Singapore\, Singapore\, 247911\, Singapore
CATEGORIES:Conference
END:VEVENT
BEGIN:VEVENT
DTSTART;TZID=Asia/Dubai:20240924T080000
DTEND;TZID=Asia/Dubai:20240924T170000
DTSTAMP:20260426T042639
CREATED:20240801T110345Z
LAST-MODIFIED:20240801T110345Z
UID:35114-1727164800-1727197200@wpsso.register-iri.com
SUMMARY:InvestPro UAE Abu Dhabi 2024
DESCRIPTION:
URL:https://wpsso.register-iri.com/event/investpro-uae-abu-dhabi-2024/
LOCATION:Le Royal Meridien Abu Dhabi\, Liwa Ballroom\, Po Box 45505\, Khalifa Street\,\, Abu Dhabi\, United Arab Emirates
CATEGORIES:Conference
END:VEVENT
BEGIN:VEVENT
DTSTART;TZID=Europe/Monaco:20240924T080000
DTEND;TZID=Europe/Monaco:20240924T170000
DTSTAMP:20260426T042639
CREATED:20240705T093408Z
LAST-MODIFIED:20240917T145117Z
UID:34865-1727164800-1727197200@wpsso.register-iri.com
SUMMARY:2024 Marine Money Monaco Superyacht Finance Forum
DESCRIPTION:
URL:https://wpsso.register-iri.com/event/2024-monaco-superyacht-finance-forum/
LOCATION:Le Méridien Beach Plaza\, 22 Av. Princesse Grâce\, Monaco\, 98000\, Monaco
CATEGORIES:Conference,Cocktail
END:VEVENT
BEGIN:VEVENT
DTSTART;TZID=Europe/Athens:20240924T080000
DTEND;TZID=Europe/Athens:20240924T170000
DTSTAMP:20260426T042639
CREATED:20240705T092443Z
LAST-MODIFIED:20240920T052737Z
UID:34863-1727164800-1727197200@wpsso.register-iri.com
SUMMARY:14th Annual Capital Link Operational Excellence in Shipping Forum
DESCRIPTION:
URL:https://wpsso.register-iri.com/event/14th-annual-capital-link-operational-excellence-in-shipping-forum/
LOCATION:Athenaeum InterContinental Athens\,\, Syngrou Avenue 89-93\, Athens\, 117 45\, Greece
CATEGORIES:Conference
END:VEVENT
BEGIN:VEVENT
DTSTART;TZID=America/Sao_Paulo:20240923T090000
DTEND;TZID=America/Sao_Paulo:20240926T170000
DTSTAMP:20260426T042639
CREATED:20240801T105647Z
LAST-MODIFIED:20240912T044423Z
UID:35110-1727082000-1727370000@wpsso.register-iri.com
SUMMARY:Rio Oil & Gas
DESCRIPTION:
URL:https://wpsso.register-iri.com/event/rio-oil-gas-2024/
LOCATION:Boulevard Olímpico\, Centro\,\, Rio de Janeiro\, 20081-240\, Brazil
CATEGORIES:Conference,Exhibition
ORGANIZER;CN="IBP - Brazilian Petroleum%2C Gas and Biofuels Institute":MAILTO:riooil@ibp.org.br &lt;riooil@ibp.org.br
END:VEVENT
BEGIN:VEVENT
DTSTART;TZID=Europe/Athens:20240920T130000
DTEND;TZID=Europe/Athens:20240922T170000
DTSTAMP:20260426T042639
CREATED:20240705T080203Z
LAST-MODIFIED:20240909T080714Z
UID:34859-1726837200-1727024400@wpsso.register-iri.com
SUMMARY:23rd Navigator Assembly 2024 - The Shipping Decision Makers Forum
DESCRIPTION:
URL:https://wpsso.register-iri.com/event/23rd-navigator-assembly-2024-the-shipping-decision-makers-forum/
LOCATION:Chios Chandris Hotel:\, Prokymea\, Chios\, 821 00\, Greece
CATEGORIES:Conference
END:VEVENT
BEGIN:VEVENT
DTSTART;TZID=Europe/Moscow:20240919T080000
DTEND;TZID=Europe/Moscow:20240920T170000
DTSTAMP:20260426T042639
CREATED:20240730T072009Z
LAST-MODIFIED:20240909T075122Z
UID:35034-1726732800-1726851600@wpsso.register-iri.com
SUMMARY:International Maritime Forum "Global Compass"
DESCRIPTION:
URL:https://wpsso.register-iri.com/event/international-maritime-forum-global-compass/
LOCATION:The Municipality of Varna\, Osmi Primorski Polk\, No. 43\, Varna\, 9000\, Bulgaria
CATEGORIES:Conference
END:VEVENT
BEGIN:VEVENT
DTSTART;TZID=Europe/London:20240918T090000
DTEND;TZID=Europe/London:20240918T163000
DTSTAMP:20260426T042639
CREATED:20240801T104311Z
LAST-MODIFIED:20240801T104311Z
UID:35106-1726650000-1726677000@wpsso.register-iri.com
SUMMARY:4th SAFETY4SEA London Forum
DESCRIPTION:
URL:https://wpsso.register-iri.com/event/4th-safety4sea-london-forum/
LOCATION:ICS Maritime Hub\, Ocean Suite\, 7th Floor Walsingham House\, 35 Seething Lane\, London\, EC3N 4AH\, United Kingdom
CATEGORIES:Conference
END:VEVENT
END:VCALENDAR