BEGIN:VCALENDAR
VERSION:2.0
PRODID:-//IRI | International Registries, Inc. - ECPv6.9.0//NONSGML v1.0//EN
CALSCALE:GREGORIAN
METHOD:PUBLISH
X-ORIGINAL-URL:https://wpsso.register-iri.com
X-WR-CALDESC:Events for IRI | International Registries, Inc.
REFRESH-INTERVAL;VALUE=DURATION:PT1H
X-Robots-Tag:noindex
X-PUBLISHED-TTL:PT1H
BEGIN:VTIMEZONE
TZID:Europe/Copenhagen
BEGIN:DAYLIGHT
TZOFFSETFROM:+0100
TZOFFSETTO:+0200
TZNAME:CEST
DTSTART:20240331T010000
END:DAYLIGHT
BEGIN:STANDARD
TZOFFSETFROM:+0200
TZOFFSETTO:+0100
TZNAME:CET
DTSTART:20241027T010000
END:STANDARD
TZID:Asia/Manila
BEGIN:STANDARD
TZOFFSETFROM:+0800
TZOFFSETTO:+0800
TZNAME:PST
DTSTART:20240101T000000
END:STANDARD
TZID:Europe/London
BEGIN:DAYLIGHT
TZOFFSETFROM:+0000
TZOFFSETTO:+0100
TZNAME:BST
DTSTART:20240331T010000
END:DAYLIGHT
BEGIN:STANDARD
TZOFFSETFROM:+0100
TZOFFSETTO:+0000
TZNAME:GMT
DTSTART:20241027T010000
END:STANDARD
TZID:America/New_York
BEGIN:DAYLIGHT
TZOFFSETFROM:-0500
TZOFFSETTO:-0400
TZNAME:EDT
DTSTART:20240310T070000
END:DAYLIGHT
BEGIN:STANDARD
TZOFFSETFROM:-0400
TZOFFSETTO:-0500
TZNAME:EST
DTSTART:20241103T060000
END:STANDARD
TZID:Asia/Singapore
BEGIN:STANDARD
TZOFFSETFROM:+0800
TZOFFSETTO:+0800
TZNAME:+08
DTSTART:20240101T000000
END:STANDARD
TZID:Europe/Athens
BEGIN:DAYLIGHT
TZOFFSETFROM:+0200
TZOFFSETTO:+0300
TZNAME:EEST
DTSTART:20240331T010000
END:DAYLIGHT
BEGIN:STANDARD
TZOFFSETFROM:+0300
TZOFFSETTO:+0200
TZNAME:EET
DTSTART:20241027T010000
END:STANDARD
TZID:Asia/Dubai
BEGIN:STANDARD
TZOFFSETFROM:+0400
TZOFFSETTO:+0400
TZNAME:+04
DTSTART:20240101T000000
END:STANDARD
TZID:America/Halifax
BEGIN:DAYLIGHT
TZOFFSETFROM:-0400
TZOFFSETTO:-0300
TZNAME:ADT
DTSTART:20240310T060000
END:DAYLIGHT
BEGIN:STANDARD
TZOFFSETFROM:-0300
TZOFFSETTO:-0400
TZNAME:AST
DTSTART:20241103T050000
END:STANDARD
TZID:Asia/Shanghai
BEGIN:STANDARD
TZOFFSETFROM:+0800
TZOFFSETTO:+0800
TZNAME:CST
DTSTART:20240101T000000
END:STANDARD
TZID:Europe/Helsinki
BEGIN:DAYLIGHT
TZOFFSETFROM:+0200
TZOFFSETTO:+0300
TZNAME:EEST
DTSTART:20240331T010000
END:DAYLIGHT
BEGIN:STANDARD
TZOFFSETFROM:+0300
TZOFFSETTO:+0200
TZNAME:EET
DTSTART:20241027T010000
END:STANDARD
TZID:Asia/Tokyo
BEGIN:STANDARD
TZOFFSETFROM:+0900
TZOFFSETTO:+0900
TZNAME:JST
DTSTART:20240101T000000
END:STANDARD
TZID:Europe/Istanbul
BEGIN:STANDARD
TZOFFSETFROM:+0300
TZOFFSETTO:+0300
TZNAME:+03
DTSTART:20240101T000000
END:STANDARD
TZID:Asia/Tokyo
BEGIN:STANDARD
TZOFFSETFROM:+0900
TZOFFSETTO:+0900
TZNAME:JST
DTSTART:20240101T000000
END:STANDARD
TZID:UTC
BEGIN:STANDARD
TZOFFSETFROM:+0000
TZOFFSETTO:+0000
TZNAME:UTC
DTSTART:20240101T000000
END:STANDARD
END:VTIMEZONE
BEGIN:VEVENT
DTSTART;TZID=Europe/Copenhagen:20241112T123000
DTEND;TZID=Europe/Copenhagen:20241113T210000
DTSTAMP:20260425T121803
CREATED:20241011T053814Z
LAST-MODIFIED:20241106T094128Z
UID:36199-1731414600-1731531600@wpsso.register-iri.com
SUMMARY:Tradewinds Ship Recycling Forum 2024
DESCRIPTION:
URL:https://wpsso.register-iri.com/event/tradewinds-ship-recycling-forum-2024/
LOCATION:The Axelborg Hall at Tivoli\, Vesterbrogade 4\, 1620 København\, Copenhagen\, Denmark
CATEGORIES:Conference
END:VEVENT
BEGIN:VEVENT
DTSTART;TZID=Asia/Manila:20241112T090000
DTEND;TZID=Asia/Manila:20241114T230000
DTSTAMP:20260425T121803
CREATED:20240903T051058Z
LAST-MODIFIED:20241104T113312Z
UID:35525-1731402000-1731625200@wpsso.register-iri.com
SUMMARY:Seatrade Maritime Crew Connect Global
DESCRIPTION:
URL:https://wpsso.register-iri.com/event/seatrade-maritime-crew-connect-global/
LOCATION:Shangri-La The Fort\, Manila\, 30th Street corner 5th Avenue\, Bonifacio Global City\, Taguig City\,\, Manila\, Philippines
CATEGORIES:Conference,Exhibition
END:VEVENT
BEGIN:VEVENT
DTSTART;TZID=Europe/London:20241112T090000
DTEND;TZID=Europe/London:20241113T170000
DTSTAMP:20260425T121803
CREATED:20241010T112117Z
LAST-MODIFIED:20241106T103211Z
UID:36169-1731402000-1731517200@wpsso.register-iri.com
SUMMARY:LNG Shipping & Terminals Conference 2024
DESCRIPTION:
URL:https://wpsso.register-iri.com/event/lng-shipping-terminals-conference-2024/
LOCATION:Hilton London Tower Bridge\, 5 More London Place\, Tooley Street\,\, London\, SE1 2BY\, United Kingdom
CATEGORIES:Conference,Exhibition
END:VEVENT
BEGIN:VEVENT
DTSTART;TZID=America/New_York:20241112T080000
DTEND;TZID=America/New_York:20241114T170000
DTSTAMP:20260425T121803
CREATED:20241011T060434Z
LAST-MODIFIED:20241104T110130Z
UID:36205-1731398400-1731603600@wpsso.register-iri.com
SUMMARY:The International WorkBoat Show
DESCRIPTION:
URL:https://wpsso.register-iri.com/event/the-international-workboat-show/
LOCATION:Morial Convention Center\, 900 Convention Center Blvd\, New Orleans\, LA\, 70130\, United States
CATEGORIES:Conference,Exhibition
END:VEVENT
BEGIN:VEVENT
DTSTART;TZID=Asia/Singapore:20241112T080000
DTEND;TZID=Asia/Singapore:20241113T180000
DTSTAMP:20260425T121803
CREATED:20241001T045249Z
LAST-MODIFIED:20241030T101818Z
UID:35925-1731398400-1731520800@wpsso.register-iri.com
SUMMARY:STEP Asia Conference 2024
DESCRIPTION:
URL:https://wpsso.register-iri.com/event/step-asia-conference-2024/
LOCATION:Marina Bay Sands\, 10 Bayfront Ave\, Singapore\, 018956\, Singapore
CATEGORIES:Conference
END:VEVENT
BEGIN:VEVENT
DTSTART;TZID=Europe/Athens:20241112T080000
DTEND;TZID=Europe/Athens:20241112T170000
DTSTAMP:20260425T121803
CREATED:20241001T120413Z
LAST-MODIFIED:20241108T182202Z
UID:35970-1731398400-1731430800@wpsso.register-iri.com
SUMMARY:Naftiliaki's Greener Shipping Summit 2024
DESCRIPTION:
URL:https://wpsso.register-iri.com/event/naftiliakis-greener-shipping-summit/
LOCATION:Eugenides Foundation\, Leof. Andrea Siggrou 387\, Paleo Faliro\, 175 64\, Greece
CATEGORIES:Conference
END:VEVENT
BEGIN:VEVENT
DTSTART;TZID=America/New_York:20241111T173000
DTEND;TZID=America/New_York:20241111T203000
DTSTAMP:20260425T121803
CREATED:20241017T165532Z
LAST-MODIFIED:20241104T104234Z
UID:36405-1731346200-1731357000@wpsso.register-iri.com
SUMMARY:Marine Log’s Top Women in Maritime Celebration
DESCRIPTION:
URL:https://wpsso.register-iri.com/event/marine-logs-top-women-in-maritime-celebration/
LOCATION:FL
CATEGORIES:Conference,Awards
END:VEVENT
BEGIN:VEVENT
DTSTART;TZID=Asia/Dubai:20241111T080000
DTEND;TZID=Asia/Dubai:20241111T170000
DTSTAMP:20260425T121803
CREATED:20241001T120907Z
LAST-MODIFIED:20241001T120925Z
UID:35974-1731312000-1731344400@wpsso.register-iri.com
SUMMARY:STEP Arabia Conference
DESCRIPTION:
URL:https://wpsso.register-iri.com/event/step-arabia/
LOCATION:Habtoor Palace\, Al Habtoor City\, Sheikh Zayed Road\, Dubai\, United Arab Emirates
CATEGORIES:Conference
END:VEVENT
BEGIN:VEVENT
DTSTART;TZID=Asia/Dubai:20241107T113000
DTEND;TZID=Asia/Dubai:20241107T180000
DTSTAMP:20260425T121803
CREATED:20241011T045147Z
LAST-MODIFIED:20241024T115340Z
UID:36188-1730979000-1731002400@wpsso.register-iri.com
SUMMARY:6th Annual Tristar ‘Safety at Sea’ Conference
DESCRIPTION:
URL:https://wpsso.register-iri.com/event/tristar-6th-annual-tristar-safety-at-sea-conference/
LOCATION:Taj Exotica\, The Palm\, East Crescent Road\, Palm Jumeirah\,\, Dubai\, United Arab Emirates
CATEGORIES:Conference
END:VEVENT
BEGIN:VEVENT
DTSTART;TZID=Asia/Dubai:20241107T083000
DTEND;TZID=Asia/Dubai:20241107T173000
DTSTAMP:20260425T121803
CREATED:20241024T113349Z
LAST-MODIFIED:20241024T114630Z
UID:36538-1730968200-1731000600@wpsso.register-iri.com
SUMMARY:The Maritime Standard Tanker Conference 2024
DESCRIPTION:
URL:https://wpsso.register-iri.com/event/the-maritime-standard-tanker-conference-2024/
LOCATION:Atlantis The Palm\, Crescent Rd\, Dubai\, United Arab Emirates
CATEGORIES:Conference
ORGANIZER;CN="The Maritime Standard":MAILTO:info@themaritimestandard.com
END:VEVENT
BEGIN:VEVENT
DTSTART;TZID=Asia/Dubai:20241106T183000
DTEND;TZID=Asia/Dubai:20241106T230000
DTSTAMP:20260425T121803
CREATED:20241010T115704Z
LAST-MODIFIED:20241029T134217Z
UID:36180-1730917800-1730934000@wpsso.register-iri.com
SUMMARY:The Maritime Standard Awards 2024
DESCRIPTION:
URL:https://wpsso.register-iri.com/event/the-maritime-standard-awards-2024/
LOCATION:Atlantis The Palm\, Crescent Rd\, Dubai\, United Arab Emirates
CATEGORIES:Awards
ORGANIZER;CN="The Maritime Standard":MAILTO:info@themaritimestandard.com
END:VEVENT
BEGIN:VEVENT
DTSTART;TZID=America/New_York:20241106T080000
DTEND;TZID=America/New_York:20241108T170000
DTSTAMP:20260425T121803
CREATED:20241010T112741Z
LAST-MODIFIED:20241025T102918Z
UID:36171-1730880000-1731085200@wpsso.register-iri.com
SUMMARY:CLIA Cruise Forward Summit
DESCRIPTION:
URL:https://wpsso.register-iri.com/event/clia-cruise-forward-summit/
LOCATION:InterContinental Miami\, 100 Chopin Plaza\,\, Miami\, 33131\, United States
CATEGORIES:Conference
END:VEVENT
BEGIN:VEVENT
DTSTART;TZID=America/Halifax:20241106T080000
DTEND;TZID=America/Halifax:20241107T170000
DTSTAMP:20260425T121803
CREATED:20241010T120322Z
LAST-MODIFIED:20241025T095912Z
UID:36182-1730880000-1730998800@wpsso.register-iri.com
SUMMARY:ACI’s 18th Arctic Shipping Summit
DESCRIPTION:
URL:https://wpsso.register-iri.com/event/acis-18th-arctic-shipping-summit/
LOCATION:Holiday Inn Montréal Centre-ville\, 999 Rue Saint-Urbain\, Montreal\, Quebec\, H2Z 0B4
CATEGORIES:Conference
END:VEVENT
BEGIN:VEVENT
DTSTART;TZID=Asia/Shanghai:20241106T080000
DTEND;TZID=Asia/Shanghai:20241106T170000
DTSTAMP:20260425T121803
CREATED:20241016T095839Z
LAST-MODIFIED:20241016T100409Z
UID:36325-1730880000-1730912400@wpsso.register-iri.com
SUMMARY:Marine Money 2024 China Ship Finance Forum
DESCRIPTION:
URL:https://wpsso.register-iri.com/event/marine-money-2024-china-ship-finance-forum/
LOCATION:The Ritz-Carlton Shanghai\, Pudong\, Shanghai IFC\, 8 Century Avenue\, Lujiazui\, Pudong\, Shanghai\, 200120\, China
CATEGORIES:Conference
END:VEVENT
BEGIN:VEVENT
DTSTART;TZID=Europe/Helsinki:20241106T080000
DTEND;TZID=Europe/Helsinki:20241106T170000
DTSTAMP:20260425T121803
CREATED:20241010T115226Z
LAST-MODIFIED:20241024T100630Z
UID:36178-1730880000-1730912400@wpsso.register-iri.com
SUMMARY:4th Annual Capital Link German Maritime Forum
DESCRIPTION:
URL:https://wpsso.register-iri.com/event/4th-annual-capital-link-german-maritime-forum/
LOCATION:Radisson Blu Hotel\, Congresspl. 2\, Hamburg\, 20355\, Germany
CATEGORIES:Conference
END:VEVENT
BEGIN:VEVENT
DTSTART;TZID=Europe/Helsinki:20241105T090000
DTEND;TZID=Europe/Helsinki:20241105T170000
DTSTAMP:20260425T121803
CREATED:20241001T090235Z
LAST-MODIFIED:20241024T105515Z
UID:35952-1730797200-1730826000@wpsso.register-iri.com
SUMMARY:23rd Mare Forum Ship Finance 2024
DESCRIPTION:
URL:https://wpsso.register-iri.com/event/23rd-mare-forum-ship-finance-2024/
LOCATION:Mainport Hotel Rotterdam\, Leuvehaven 77\, Rotterdam\, 3011\, Netherlands
CATEGORIES:Conference
END:VEVENT
BEGIN:VEVENT
DTSTART;TZID=Europe/Athens:20241105T083000
DTEND;TZID=Europe/Athens:20241105T153000
DTSTAMP:20260425T121803
CREATED:20241010T110153Z
LAST-MODIFIED:20241104T092727Z
UID:36164-1730795400-1730820600@wpsso.register-iri.com
SUMMARY:The Cyprus Internal Audit Forum
DESCRIPTION:
URL:https://wpsso.register-iri.com/event/7th-cyprus-internal-forum/
LOCATION:Hilton Nicosia\, Achaion 1\, Egkomi\, Nicosia\, 2413\, Cyprus
CATEGORIES:Conference
END:VEVENT
BEGIN:VEVENT
DTSTART;TZID=Europe/Athens:20241105T080000
DTEND;TZID=Europe/Athens:20241107T170000
DTSTAMP:20260425T121803
CREATED:20241021T102818Z
LAST-MODIFIED:20241029T141750Z
UID:36448-1730793600-1730998800@wpsso.register-iri.com
SUMMARY:IBIA Annual Convention 2024
DESCRIPTION:
URL:https://wpsso.register-iri.com/event/ibia-annual-convention-2024/
LOCATION:Athens Marriott Hotel\, Leoforos Andrea Siggrou 385\, Athens\, 175 64\, Greece
CATEGORIES:Conference
END:VEVENT
BEGIN:VEVENT
DTSTART;TZID=America/New_York:20241101T120000
DTEND;TZID=America/New_York:20241101T170000
DTSTAMP:20260425T121803
CREATED:20241017T104814Z
LAST-MODIFIED:20241022T121021Z
UID:36386-1730462400-1730480400@wpsso.register-iri.com
SUMMARY:U.S. Superyacht Association 18th Annual Meeting
DESCRIPTION:
URL:https://wpsso.register-iri.com/event/u-s-superyacht-association-18th-annual-meeting/
LOCATION:Bahia Mar\, 801 Seabreeze Blvd\, Ft Lauderdale\, FL\, 33316\, United States
CATEGORIES:Meeting
END:VEVENT
BEGIN:VEVENT
DTSTART;TZID=Asia/Tokyo:20241031T080000
DTEND;TZID=Asia/Tokyo:20241031T170000
DTSTAMP:20260425T121803
CREATED:20240805T104908Z
LAST-MODIFIED:20241024T091801Z
UID:35192-1730361600-1730394000@wpsso.register-iri.com
SUMMARY:Marine Money 2024 Korea Ship Finance Forum
DESCRIPTION:
URL:https://wpsso.register-iri.com/event/marine-money-18th-annual-korea-ship-finance-forum/
LOCATION:Paradise Hotel\, 296 Haeundae Beach Road\, Haeundae-gu\, Busan (Jungdong)\, Korea\, Republic of
CATEGORIES:Conference
END:VEVENT
BEGIN:VEVENT
DTSTART;TZID=America/New_York:20241030T183000
DTEND;TZID=America/New_York:20241030T233000
DTSTAMP:20260425T121803
CREATED:20241017T104418Z
LAST-MODIFIED:20241022T120409Z
UID:36383-1730313000-1730331000@wpsso.register-iri.com
SUMMARY:International Superyacht Society Design & Leadership Gala
DESCRIPTION:
URL:https://wpsso.register-iri.com/event/international-superyacht-society-design-leadership-gala/
LOCATION:Broward Center for the Performing Arts\, 201 SW 5th Ave\, Fort Lauderdale\, FL\, United States
CATEGORIES:Awards,Dinner,Cocktail
END:VEVENT
BEGIN:VEVENT
DTSTART;TZID=America/New_York:20241030T153000
DTEND;TZID=America/New_York:20241030T170000
DTSTAMP:20260425T121803
CREATED:20241017T103910Z
LAST-MODIFIED:20241022T120156Z
UID:36380-1730302200-1730307600@wpsso.register-iri.com
SUMMARY:U.S. Superyacht Association: Ask the Flag 2024
DESCRIPTION:
URL:https://wpsso.register-iri.com/event/u-s-superyacht-association-ask-the-flag-2024/
LOCATION:Bahia Mar\, 801 Seabreeze Blvd\, Ft Lauderdale\, FL\, 33316\, United States
CATEGORIES:Conference
END:VEVENT
BEGIN:VEVENT
DTSTART;TZID=America/New_York:20241030T120000
DTEND;TZID=America/New_York:20241103T180000
DTSTAMP:20260425T121803
CREATED:20241017T102500Z
LAST-MODIFIED:20241017T115252Z
UID:36373-1730289600-1730656800@wpsso.register-iri.com
SUMMARY:Fort Lauderdale International Boat Show 2024
DESCRIPTION:
URL:https://wpsso.register-iri.com/event/fort-lauderdale-international-boat-show-3/
LOCATION:Bahia Mar Yachting Center\, 801 Seabreeze Blvd\,\, Ft. Lauderdale\, FL\, 33316\, United States
CATEGORIES:Exhibition,Yacht Show
END:VEVENT
BEGIN:VEVENT
DTSTART;TZID=America/New_York:20241030T090000
DTEND;TZID=America/New_York:20241102T190000
DTSTAMP:20260425T121803
CREATED:20241017T103436Z
LAST-MODIFIED:20241017T104909Z
UID:36377-1730278800-1730574000@wpsso.register-iri.com
SUMMARY:USSA Skylounge @ FLIBS
DESCRIPTION:
URL:https://wpsso.register-iri.com/event/ussa-skylounge-flibs/
LOCATION:Bahia Mar Yachting Center\, 801 Seabreeze Blvd\,\, Ft. Lauderdale\, FL\, 33316\, United States
CATEGORIES:Conference
END:VEVENT
BEGIN:VEVENT
DTSTART;TZID=America/New_York:20241030T090000
DTEND;TZID=America/New_York:20241030T170000
DTSTAMP:20260425T121803
CREATED:20240805T103830Z
LAST-MODIFIED:20241017T115925Z
UID:35187-1730278800-1730307600@wpsso.register-iri.com
SUMMARY:Mare Forum 5th Super Yacht Americas 2024
DESCRIPTION:
URL:https://wpsso.register-iri.com/event/5th-super-yacht-americas-2024/
LOCATION:FL
CATEGORIES:Conference
END:VEVENT
BEGIN:VEVENT
DTSTART;TZID=Europe/Istanbul:20241026T080000
DTEND;TZID=Europe/Istanbul:20241103T170000
DTSTAMP:20260425T121803
CREATED:20241017T101444Z
LAST-MODIFIED:20241023T084857Z
UID:36368-1729929600-1730653200@wpsso.register-iri.com
SUMMARY:Bosphorus Boat Show
DESCRIPTION:
URL:https://wpsso.register-iri.com/event/bosphorus-boat-show/
LOCATION:Marinturk Istanbul City Port\, Batı Mahallesi\, Sahil Yolu\, Pendik - Istanbul\, 34890\, Turkey
CATEGORIES:Exhibition,Yacht Show
END:VEVENT
BEGIN:VEVENT
DTSTART;TZID=Asia/Tokyo:20241024T090000
DTEND;TZID=Asia/Tokyo:20241024T170000
DTSTAMP:20260425T121803
CREATED:20241001T084407Z
LAST-MODIFIED:20241016T102523Z
UID:35944-1729760400-1729789200@wpsso.register-iri.com
SUMMARY:3rd Annual Capital Link Japan Maritime Forum
DESCRIPTION:
URL:https://wpsso.register-iri.com/event/3rd-annual-capital-link-japan-maritime-forum-2/
LOCATION:The Tokyo American Club\, 2-1-2 Azabudai\, Minato-ku\, 106-8649\, Japan
CATEGORIES:Conference
END:VEVENT
BEGIN:VEVENT
DTSTART;TZID=America/Halifax:20241024T080000
DTEND;TZID=America/Halifax:20241025T170000
DTSTAMP:20260425T121803
CREATED:20240701T094441Z
LAST-MODIFIED:20241008T125810Z
UID:34781-1729756800-1729875600@wpsso.register-iri.com
SUMMARY:STEP MIAMI 13th Annual Summit
DESCRIPTION:
URL:https://wpsso.register-iri.com/event/step-miami-13th-annual-summit/
LOCATION:The Ritz-Carlton Key Biscayne\, Miami\, 455 Grand Bay Drive\, Key Biscayne\, Miami\, FL\, 33149\, United States
CATEGORIES:Conference
END:VEVENT
BEGIN:VEVENT
DTSTART;TZID=Asia/Singapore:20241023T090000
DTEND;TZID=Asia/Singapore:20241023T170000
DTSTAMP:20260425T121803
CREATED:20240805T100256Z
LAST-MODIFIED:20241008T104346Z
UID:35178-1729674000-1729702800@wpsso.register-iri.com
SUMMARY:4th SAFETY4SEA Singapore Forum
DESCRIPTION:
URL:https://wpsso.register-iri.com/event/4th-safety4sea-singapore-forum/
LOCATION:The Westin Singapore\, 12 Marina View\, Asia Square Tower 2\,\, Singapore\, 018961\, Singapore
CATEGORIES:Conference
END:VEVENT
BEGIN:VEVENT
DTSTART;TZID=UTC:20241023T080000
DTEND;TZID=UTC:20241025T170000
DTSTAMP:20260425T121803
CREATED:20241001T082048Z
LAST-MODIFIED:20241014T071249Z
UID:35938-1729670400-1729875600@wpsso.register-iri.com
SUMMARY:Europort Istanbul 2024
DESCRIPTION:
URL:https://wpsso.register-iri.com/event/europort-istanbul-2024/
LOCATION:Yenikapı Expo Center\, Yeşilköy Istanbul\, Fuar Merkezi\, Istanbul\, 34149\, Turkey
CATEGORIES:Conference,Exhibition
END:VEVENT
END:VCALENDAR