BEGIN:VCALENDAR
VERSION:2.0
PRODID:-//IRI | International Registries, Inc. - ECPv6.9.0//NONSGML v1.0//EN
CALSCALE:GREGORIAN
METHOD:PUBLISH
X-ORIGINAL-URL:https://wpsso.register-iri.com
X-WR-CALDESC:Events for IRI | International Registries, Inc.
REFRESH-INTERVAL;VALUE=DURATION:PT1H
X-Robots-Tag:noindex
X-PUBLISHED-TTL:PT1H
BEGIN:VTIMEZONE
TZID:Asia/Hong_Kong
BEGIN:STANDARD
TZOFFSETFROM:+0800
TZOFFSETTO:+0800
TZNAME:HKT
DTSTART:20230101T000000
END:STANDARD
TZID:Europe/Amsterdam
BEGIN:DAYLIGHT
TZOFFSETFROM:+0100
TZOFFSETTO:+0200
TZNAME:CEST
DTSTART:20230326T010000
END:DAYLIGHT
BEGIN:STANDARD
TZOFFSETFROM:+0200
TZOFFSETTO:+0100
TZNAME:CET
DTSTART:20231029T010000
END:STANDARD
TZID:America/New_York
BEGIN:DAYLIGHT
TZOFFSETFROM:-0500
TZOFFSETTO:-0400
TZNAME:EDT
DTSTART:20230312T070000
END:DAYLIGHT
BEGIN:STANDARD
TZOFFSETFROM:-0400
TZOFFSETTO:-0500
TZNAME:EST
DTSTART:20231105T060000
END:STANDARD
TZID:UTC
BEGIN:STANDARD
TZOFFSETFROM:+0000
TZOFFSETTO:+0000
TZNAME:UTC
DTSTART:20200101T000000
END:STANDARD
TZID:America/Sao_Paulo
BEGIN:STANDARD
TZOFFSETFROM:-0300
TZOFFSETTO:-0300
TZNAME:-03
DTSTART:20230101T000000
END:STANDARD
TZID:Asia/Shanghai
BEGIN:STANDARD
TZOFFSETFROM:+0800
TZOFFSETTO:+0800
TZNAME:CST
DTSTART:20230101T000000
END:STANDARD
TZID:America/Halifax
BEGIN:DAYLIGHT
TZOFFSETFROM:-0400
TZOFFSETTO:-0300
TZNAME:ADT
DTSTART:20230312T060000
END:DAYLIGHT
BEGIN:STANDARD
TZOFFSETFROM:-0300
TZOFFSETTO:-0400
TZNAME:AST
DTSTART:20231105T050000
END:STANDARD
TZID:Europe/London
BEGIN:DAYLIGHT
TZOFFSETFROM:+0000
TZOFFSETTO:+0100
TZNAME:BST
DTSTART:20190331T010000
END:DAYLIGHT
BEGIN:STANDARD
TZOFFSETFROM:+0100
TZOFFSETTO:+0000
TZNAME:GMT
DTSTART:20191027T010000
END:STANDARD
END:VTIMEZONE
BEGIN:VEVENT
DTSTART;TZID=Asia/Hong_Kong:20231122T170000
DTEND;TZID=Asia/Hong_Kong:20231122T203000
DTSTAMP:20260425T191347
CREATED:20231026T110656Z
LAST-MODIFIED:20231026T110724Z
UID:31612-1700672400-1700685000@wpsso.register-iri.com
SUMMARY:HKSOA Annual General Meeting and Annual Cocktail Party 2023
DESCRIPTION:
URL:https://wpsso.register-iri.com/event/hksoa-annual-general-meeting-and-annual-cocktail-party-2023/
LOCATION:The Hong Kong Club\, 1 Jackson Road\, Central\,\, Hong Kong\, Hong Kong
CATEGORIES:Meeting,Cocktail
END:VEVENT
BEGIN:VEVENT
DTSTART;TZID=Europe/Amsterdam:20231114T080000
DTEND;TZID=Europe/Amsterdam:20231116T170000
DTSTAMP:20260425T191347
CREATED:20230926T074939Z
LAST-MODIFIED:20231102T055803Z
UID:31028-1699948800-1700154000@wpsso.register-iri.com
SUMMARY:TSF: Connect 2023
DESCRIPTION:
URL:https://wpsso.register-iri.com/event/tsf-connect-2023/
LOCATION:Amsterdam RAI Exhibition and Convention Centre\, Europaplein 24\, Amsterdam\, 1078 GZ\, Netherlands
CATEGORIES:Conference,Meeting
END:VEVENT
BEGIN:VEVENT
DTSTART;TZID=America/New_York:20231108T083000
DTEND;TZID=America/New_York:20231110T110000
DTSTAMP:20260425T191347
CREATED:20230926T071703Z
LAST-MODIFIED:20231030T101007Z
UID:31021-1699432200-1699614000@wpsso.register-iri.com
SUMMARY:IADC Annual General Meeting 2023
DESCRIPTION:
URL:https://wpsso.register-iri.com/event/iadc-annual-general-meeting-2023/
LOCATION:Hyatt Regency Hotel Austin\, 208 Barton Springs Rd\,\, Austin\, TX\, 78704\, United States
CATEGORIES:Meeting
END:VEVENT
BEGIN:VEVENT
DTSTART;TZID=UTC:20231102T080000
DTEND;TZID=UTC:20231102T170000
DTSTAMP:20260425T191347
CREATED:20230809T102933Z
LAST-MODIFIED:20231025T064429Z
UID:30124-1698912000-1698944400@wpsso.register-iri.com
SUMMARY:2023 Marine Money Korea Ship Finance Forum
DESCRIPTION:
URL:https://wpsso.register-iri.com/event/2023-korea-ship-finance-forum/
LOCATION:Paradise Hotel\, 296 Haeundae Beach Road\, Haeundae-gu\, Busan (Jungdong)\, Korea\, Republic of
CATEGORIES:Conference,Meeting,Convention
END:VEVENT
BEGIN:VEVENT
DTSTART;VALUE=DATE:20231025
DTEND;VALUE=DATE:20231028
DTSTAMP:20260425T191347
CREATED:20230809T100710Z
LAST-MODIFIED:20231019T100216Z
UID:30117-1698192000-1698451199@wpsso.register-iri.com
SUMMARY:WISTA International AGM & Conference
DESCRIPTION:
URL:https://wpsso.register-iri.com/event/wista-international-agm-conference/
LOCATION:Radisson Montevideo Victoria Plaza Hotel\, 759 Plaza Independencia\, Montevideo\, 11100\, Uruguay
CATEGORIES:Conference,Meeting
END:VEVENT
BEGIN:VEVENT
DTSTART;VALUE=DATE:20231024
DTEND;VALUE=DATE:20231025
DTSTAMP:20260425T191347
CREATED:20230808T114836Z
LAST-MODIFIED:20231016T094117Z
UID:30080-1698105600-1698191999@wpsso.register-iri.com
SUMMARY:2023 SAFETY4SEA Manila Forum
DESCRIPTION:
URL:https://wpsso.register-iri.com/event/2023-safety4sea-manila-forum/
LOCATION:Luzon Ballroom\, Sofitel Philippine Plaza Manila\, CCP Complex\, Roxas Boulevard\, Pasay City\, Manila\, 1300\, Philippines
CATEGORIES:Conference,Meeting,Seminar
END:VEVENT
BEGIN:VEVENT
DTSTART;TZID=America/Halifax:20231018T080000
DTEND;TZID=America/Halifax:20231020T163000
DTSTAMP:20260425T191347
CREATED:20230808T113357Z
LAST-MODIFIED:20230906T110608Z
UID:30077-1697616000-1697819400@wpsso.register-iri.com
SUMMARY:STEP Miami's 12th Annual Summit
DESCRIPTION:
URL:https://wpsso.register-iri.com/event/step-miamis-12th-annual-summit/
LOCATION:The Ritz-Carlton Key Biscayne\, Miami\, 455 Grand Bay Drive\, Key Biscayne\, Miami\, FL\, 33149\, United States
CATEGORIES:Meeting
END:VEVENT
BEGIN:VEVENT
DTSTART;TZID=America/Halifax:20230810T130000
DTEND;TZID=America/Halifax:20230810T180000
DTSTAMP:20260425T191347
CREATED:20230802T092944Z
LAST-MODIFIED:20230802T092944Z
UID:29918-1691672400-1691690400@wpsso.register-iri.com
SUMMARY:Propeller Club of Baltimore Crab Feast
DESCRIPTION:
URL:https://wpsso.register-iri.com/event/propeller-club-of-baltimore-crab-feast/
LOCATION:Conrad’s Ruth Villa\, 3301 Edwards Lane\, Middle River\, MD\, 21220\, United States
CATEGORIES:Meeting
END:VEVENT
BEGIN:VEVENT
DTSTART;VALUE=DATE:20230510
DTEND;VALUE=DATE:20230513
DTSTAMP:20260425T191347
CREATED:20230410T213607Z
LAST-MODIFIED:20230410T213607Z
UID:29093-1683676800-1683935999@wpsso.register-iri.com
SUMMARY:2023 WISTA USA AGM & Conference
DESCRIPTION:
URL:https://wpsso.register-iri.com/event/2023-wista-usa-agm-conference/
LOCATION:InterContinental Washington D.C. - The Wharf\, 801 Wharf St SW\,\, Washington\, DC\, 20024\, United States
CATEGORIES:Meeting,Dinner
END:VEVENT
BEGIN:VEVENT
DTSTART;VALUE=DATE:20221124
DTEND;VALUE=DATE:20221126
DTSTAMP:20260425T191347
CREATED:20220928T155527Z
LAST-MODIFIED:20221109T151043Z
UID:27029-1669248000-1669420799@wpsso.register-iri.com
SUMMARY:INTERTANKO 2022 ‘Autumn’ Semi-Annual Meetings & AGM
DESCRIPTION:
URL:https://wpsso.register-iri.com/event/intercargo-2022-autumn-semi-annual-meetings-agm/
LOCATION:Four Seasons Hotel Singapore\, 190 Orchard Blvd\,\, Singapore\, 248646\, Singapore
CATEGORIES:Conference,Meeting,Dinner
END:VEVENT
BEGIN:VEVENT
DTSTART;VALUE=DATE:20221102
DTEND;VALUE=DATE:20221105
DTSTAMP:20260425T191347
CREATED:20220823T194437Z
LAST-MODIFIED:20220823T194437Z
UID:26613-1667347200-1667606399@wpsso.register-iri.com
SUMMARY:IADC Annual General Meeting
DESCRIPTION:
URL:https://wpsso.register-iri.com/event/iadc-annual-general-meeting-3/
LOCATION:Ritz-Carlton New Orleans\, 921 Canal St\, New Orleans\, LA\, 70112\, United States
CATEGORIES:Meeting,Cocktail
END:VEVENT
BEGIN:VEVENT
DTSTART;VALUE=DATE:20210618
DTEND;VALUE=DATE:20210619
DTSTAMP:20260425T191347
CREATED:20210603T182613Z
LAST-MODIFIED:20210603T182613Z
UID:22065-1623974400-1624060799@wpsso.register-iri.com
SUMMARY:WISTA USA AGM & CONFERENCE "DIVERSE ENERGY"
DESCRIPTION:
URL:https://wpsso.register-iri.com/event/wista-usa-agm-conference-diverse-energy/
CATEGORIES:Meeting,Virtual
END:VEVENT
BEGIN:VEVENT
DTSTART;VALUE=DATE:20201216
DTEND;VALUE=DATE:20201219
DTSTAMP:20260425T191347
CREATED:20201005T205851Z
LAST-MODIFIED:20201005T205851Z
UID:19689-1608076800-1608335999@wpsso.register-iri.com
SUMMARY:International Maritime Organization - IMSO AC (?) / Assembly 26 / SES
DESCRIPTION:
URL:https://wpsso.register-iri.com/event/international-maritime-organization-imso-ac-assembly-26-ses/
CATEGORIES:Meeting,Remote
ORGANIZER;CN="International Maritime Organization":MAILTO:info@imo.org
END:VEVENT
BEGIN:VEVENT
DTSTART;VALUE=DATE:20201215
DTEND;VALUE=DATE:20201218
DTSTAMP:20260425T191347
CREATED:20201029T154344Z
LAST-MODIFIED:20201029T154344Z
UID:19945-1607990400-1608249599@wpsso.register-iri.com
SUMMARY:Global Forum on MLC\, 2006: Current & future developments
DESCRIPTION:
URL:https://wpsso.register-iri.com/event/global-forum-on-mlc-2006-current-future-developments/
CATEGORIES:Meeting,Virtual
ORGANIZER;CN="International Labor Organization":MAILTO:maritime@itcilo.org
END:VEVENT
BEGIN:VEVENT
DTSTART;VALUE=DATE:20201214
DTEND;VALUE=DATE:20201216
DTSTAMP:20260425T191347
CREATED:20200909T143230Z
LAST-MODIFIED:20200909T143230Z
UID:19265-1607904000-1608076799@wpsso.register-iri.com
SUMMARY:International Maritime Organization - Consultative Meetings of Contracting Parties (London Convention 1972) and Meetings of Contracting Parties (London Protocol 1996) (LC 42/LP 15)
DESCRIPTION:
URL:https://wpsso.register-iri.com/event/international-maritime-organization-consultative-meetings-of-contracting-parties-london-convention-1972-and-meetings-of-contracting-parties-london-protocol-1996-lc-42-lp-15/
CATEGORIES:Meeting,Remote
ORGANIZER;CN="International Maritime Organization":MAILTO:info@imo.org
END:VEVENT
BEGIN:VEVENT
DTSTART;VALUE=DATE:20201207
DTEND;VALUE=DATE:20201212
DTSTAMP:20260425T191347
CREATED:20200909T142843Z
LAST-MODIFIED:20200909T142843Z
UID:19262-1607299200-1607731199@wpsso.register-iri.com
SUMMARY:International Maritime Organization - Technical Cooperation Committee (TC 70)
DESCRIPTION:
URL:https://wpsso.register-iri.com/event/international-maritime-organization-technical-cooperation-committee-tc-70/
CATEGORIES:Meeting,Remote
ORGANIZER;CN="International Maritime Organization":MAILTO:info@imo.org
END:VEVENT
BEGIN:VEVENT
DTSTART;VALUE=DATE:20201202
DTEND;VALUE=DATE:20201205
DTSTAMP:20260425T191347
CREATED:20201005T205448Z
LAST-MODIFIED:20201005T205448Z
UID:19685-1606867200-1607126399@wpsso.register-iri.com
SUMMARY:International Maritime Organization - IOPC Fund
DESCRIPTION:
URL:https://wpsso.register-iri.com/event/international-maritime-organization-iopc-fund/
CATEGORIES:Meeting,Remote
ORGANIZER;CN="International Maritime Organization":MAILTO:info@imo.org
END:VEVENT
BEGIN:VEVENT
DTSTART;VALUE=DATE:20201127
DTEND;VALUE=DATE:20201202
DTSTAMP:20260425T191347
CREATED:20200909T142546Z
LAST-MODIFIED:20200909T142546Z
UID:19259-1606435200-1606867199@wpsso.register-iri.com
SUMMARY:International Maritime Organization - Legal Committee (LEG 107)
DESCRIPTION:
URL:https://wpsso.register-iri.com/event/international-maritime-organization-legal-committee-leg-107/
CATEGORIES:Meeting,Remote
ORGANIZER;CN="International Maritime Organization":MAILTO:info@imo.org
END:VEVENT
BEGIN:VEVENT
DTSTART;TZID=UTC:20201117T080000
DTEND;TZID=UTC:20201119T170000
DTSTAMP:20260425T191347
CREATED:20201009T164911Z
LAST-MODIFIED:20201027T140900Z
UID:19757-1605600000-1605805200@wpsso.register-iri.com
SUMMARY:2020 Cruise Forward Virtual Summit
DESCRIPTION:
URL:https://wpsso.register-iri.com/event/clia-executive-partner-summit-2/
CATEGORIES:Meeting,Virtual
END:VEVENT
BEGIN:VEVENT
DTSTART;VALUE=DATE:20201116
DTEND;VALUE=DATE:20201121
DTSTAMP:20260425T191347
CREATED:20200909T142252Z
LAST-MODIFIED:20200909T142252Z
UID:19256-1605484800-1605916799@wpsso.register-iri.com
SUMMARY:International Maritime Organization - Marine Environment Protection Committee (MEPC 75)
DESCRIPTION:
URL:https://wpsso.register-iri.com/event/international-maritime-organization-marine-environment-protection-committee-mepc-75/
CATEGORIES:Meeting,Remote
ORGANIZER;CN="International Maritime Organization":MAILTO:info@imo.org
END:VEVENT
BEGIN:VEVENT
DTSTART;VALUE=DATE:20201104
DTEND;VALUE=DATE:20201112
DTSTAMP:20260425T191347
CREATED:20200909T142025Z
LAST-MODIFIED:20200909T142025Z
UID:19253-1604448000-1605139199@wpsso.register-iri.com
SUMMARY:International Maritime Organization - Maritime Safety Committee (MSC 102)
DESCRIPTION:
URL:https://wpsso.register-iri.com/event/international-maritime-organization-maritime-safety-committee-msc-102/
CATEGORIES:Meeting,Remote
ORGANIZER;CN="International Maritime Organization":MAILTO:info@imo.org
END:VEVENT
BEGIN:VEVENT
DTSTART;VALUE=DATE:20201104
DTEND;VALUE=DATE:20201107
DTSTAMP:20260425T191347
CREATED:20200603T145110Z
LAST-MODIFIED:20200603T145117Z
UID:18038-1604448000-1604707199@wpsso.register-iri.com
SUMMARY:IADC Annual General Meeting 2020
DESCRIPTION:
URL:https://wpsso.register-iri.com/event/iadc-annual-general-meeting-2020/
LOCATION:La Cantera Resort\, 16641 La Cantera Parkway\, San Antonio\, TX\, 78256\, United States
CATEGORIES:Conference,Meeting
END:VEVENT
BEGIN:VEVENT
DTSTART;TZID=UTC:20201019T080000
DTEND;TZID=UTC:20201023T170000
DTSTAMP:20260425T191347
CREATED:20200909T141502Z
LAST-MODIFIED:20200909T141502Z
UID:19250-1603094400-1603472400@wpsso.register-iri.com
SUMMARY:International Maritime Organization - 7th meeting of the Intersessional Working Group on Reduction of GHG Emissions from Ships
DESCRIPTION:
URL:https://wpsso.register-iri.com/event/international-maritime-organization-7th-meeting-of-the-intersessional-working-group-on-reduction-of-ghg-emissions-from-ships/
CATEGORIES:Meeting,Remote
ORGANIZER;CN="International Maritime Organization":MAILTO:info@imo.org
END:VEVENT
BEGIN:VEVENT
DTSTART;TZID=UTC:20201012T080000
DTEND;TZID=UTC:20201014T170000
DTSTAMP:20260425T191347
CREATED:20200909T140855Z
LAST-MODIFIED:20200909T140855Z
UID:19247-1602489600-1602694800@wpsso.register-iri.com
SUMMARY:International Maritime Organization - Council (C 124)
DESCRIPTION:
URL:https://wpsso.register-iri.com/event/international-maritime-organization-council-c-124/
CATEGORIES:Meeting,Remote
ORGANIZER;CN="International Maritime Organization":MAILTO:info@imo.org
END:VEVENT
BEGIN:VEVENT
DTSTART;VALUE=DATE:20201005
DTEND;VALUE=DATE:20201010
DTSTAMP:20260425T191347
CREATED:20201005T210359Z
LAST-MODIFIED:20201005T221741Z
UID:19693-1601856000-1602287999@wpsso.register-iri.com
SUMMARY:International Maritime Organization - EGDH 2
DESCRIPTION:
URL:https://wpsso.register-iri.com/event/international-maritime-organization-egdh-2/
CATEGORIES:Meeting,Remote
ORGANIZER;CN="International Maritime Organization":MAILTO:info@imo.org
END:VEVENT
BEGIN:VEVENT
DTSTART;TZID=UTC:20200928T080000
DTEND;TZID=UTC:20201002T170000
DTSTAMP:20260425T191347
CREATED:20200909T115607Z
LAST-MODIFIED:20200909T140335Z
UID:19239-1601280000-1601658000@wpsso.register-iri.com
SUMMARY:International Maritime Organization - Facilitation Committee (FAL 44)
DESCRIPTION:
URL:https://wpsso.register-iri.com/event/international-maritime-organization-facilitation-committee-fal-44/
CATEGORIES:Meeting,Remote
ORGANIZER;CN="International Maritime Organization":MAILTO:info@imo.org
END:VEVENT
BEGIN:VEVENT
DTSTART;VALUE=DATE:20200916
DTEND;VALUE=DATE:20200919
DTSTAMP:20260425T191347
CREATED:20200909T115240Z
LAST-MODIFIED:20200909T140255Z
UID:19235-1600214400-1600473599@wpsso.register-iri.com
SUMMARY:International Maritime Organization - Extraordinary Session of All Committees (ALCOM) ES 1
DESCRIPTION:
URL:https://wpsso.register-iri.com/event/international-maritime-organization-extraordinary-session-of-all-committees-alcom-es-1/
CATEGORIES:Meeting,Remote
ORGANIZER;CN="International Maritime Organization":MAILTO:info@imo.org
END:VEVENT
BEGIN:VEVENT
DTSTART;VALUE=DATE:20190603
DTEND;VALUE=DATE:20190604
DTSTAMP:20260425T191347
CREATED:20190513T000000Z
LAST-MODIFIED:20190513T000000Z
UID:17313-1559520000-1559606399@wpsso.register-iri.com
SUMMARY:MIQC Spring Meeting
DESCRIPTION:
URL:https://wpsso.register-iri.com/event/miqc-spring-meeting/
LOCATION:Trinity House\, Trinity Square\, Tower Hill\, London\, EC3N 4DH\, United Kingdom
CATEGORIES:Meeting
END:VEVENT
BEGIN:VEVENT
DTSTART;VALUE=DATE:20190509
DTEND;VALUE=DATE:20190512
DTSTAMP:20260425T191347
CREATED:20190510T000000Z
LAST-MODIFIED:20190510T000000Z
UID:17306-1557360000-1557619199@wpsso.register-iri.com
SUMMARY:WISTA International Exco Spring Meeting
DESCRIPTION:
URL:https://wpsso.register-iri.com/event/wista-international-exco-spring-meeting/
LOCATION:Cailler Hotel\, Gros-Plan 28\, Val-de-Charmey\, 1637\, Switzerland
CATEGORIES:Meeting
END:VEVENT
BEGIN:VEVENT
DTSTART;VALUE=DATE:20190426
DTEND;VALUE=DATE:20190427
DTSTAMP:20260425T191347
CREATED:20190305T000000Z
LAST-MODIFIED:20190305T000000Z
UID:17294-1556236800-1556323199@wpsso.register-iri.com
SUMMARY:WISTA USA's 2019 AGM and Conference
DESCRIPTION:
URL:https://wpsso.register-iri.com/event/wista-usas-2019-agm-and-conference/
LOCATION:Independence Seaport Museum\, 211 S Christopher Columbus Blvd\, Philadelphia\, PA\, 19106\, United States
CATEGORIES:Conference,Meeting
END:VEVENT
END:VCALENDAR