BEGIN:VCALENDAR
VERSION:2.0
PRODID:-//IRI | International Registries, Inc. - ECPv6.9.0//NONSGML v1.0//EN
CALSCALE:GREGORIAN
METHOD:PUBLISH
X-WR-CALNAME:IRI | International Registries, Inc.
X-ORIGINAL-URL:https://wpsso.register-iri.com
X-WR-CALDESC:Events for IRI | International Registries, Inc.
REFRESH-INTERVAL;VALUE=DURATION:PT1H
X-Robots-Tag:noindex
X-PUBLISHED-TTL:PT1H
BEGIN:VTIMEZONE
TZID:Asia/Kolkata
BEGIN:STANDARD
TZOFFSETFROM:+0530
TZOFFSETTO:+0530
TZNAME:IST
DTSTART:20250101T000000
END:STANDARD
TZID:America/Halifax
BEGIN:DAYLIGHT
TZOFFSETFROM:-0400
TZOFFSETTO:-0300
TZNAME:ADT
DTSTART:20240310T060000
END:DAYLIGHT
BEGIN:STANDARD
TZOFFSETFROM:-0300
TZOFFSETTO:-0400
TZNAME:AST
DTSTART:20241103T050000
END:STANDARD
TZID:Asia/Tokyo
BEGIN:STANDARD
TZOFFSETFROM:+0900
TZOFFSETTO:+0900
TZNAME:JST
DTSTART:20240101T000000
END:STANDARD
TZID:Europe/Madrid
BEGIN:DAYLIGHT
TZOFFSETFROM:+0100
TZOFFSETTO:+0200
TZNAME:CEST
DTSTART:20240331T010000
END:DAYLIGHT
BEGIN:STANDARD
TZOFFSETFROM:+0200
TZOFFSETTO:+0100
TZNAME:CET
DTSTART:20241027T010000
END:STANDARD
TZID:America/New_York
BEGIN:DAYLIGHT
TZOFFSETFROM:-0500
TZOFFSETTO:-0400
TZNAME:EDT
DTSTART:20240310T070000
END:DAYLIGHT
BEGIN:STANDARD
TZOFFSETFROM:-0400
TZOFFSETTO:-0500
TZNAME:EST
DTSTART:20241103T060000
END:STANDARD
TZID:America/New_York
BEGIN:DAYLIGHT
TZOFFSETFROM:-0500
TZOFFSETTO:-0400
TZNAME:EDT
DTSTART:20230312T070000
END:DAYLIGHT
BEGIN:STANDARD
TZOFFSETFROM:-0400
TZOFFSETTO:-0500
TZNAME:EST
DTSTART:20231105T060000
END:STANDARD
BEGIN:DAYLIGHT
TZOFFSETFROM:-0500
TZOFFSETTO:-0400
TZNAME:EDT
DTSTART:20240310T070000
END:DAYLIGHT
BEGIN:STANDARD
TZOFFSETFROM:-0400
TZOFFSETTO:-0500
TZNAME:EST
DTSTART:20241103T060000
END:STANDARD
TZID:Asia/Singapore
BEGIN:STANDARD
TZOFFSETFROM:+0800
TZOFFSETTO:+0800
TZNAME:+08
DTSTART:20230101T000000
END:STANDARD
TZID:Europe/Paris
BEGIN:DAYLIGHT
TZOFFSETFROM:+0100
TZOFFSETTO:+0200
TZNAME:CEST
DTSTART:20230326T010000
END:DAYLIGHT
BEGIN:STANDARD
TZOFFSETFROM:+0200
TZOFFSETTO:+0100
TZNAME:CET
DTSTART:20231029T010000
END:STANDARD
BEGIN:DAYLIGHT
TZOFFSETFROM:+0100
TZOFFSETTO:+0200
TZNAME:CEST
DTSTART:20240331T010000
END:DAYLIGHT
BEGIN:STANDARD
TZOFFSETFROM:+0200
TZOFFSETTO:+0100
TZNAME:CET
DTSTART:20241027T010000
END:STANDARD
TZID:UTC
BEGIN:STANDARD
TZOFFSETFROM:+0000
TZOFFSETTO:+0000
TZNAME:UTC
DTSTART:20210101T000000
END:STANDARD
TZID:Europe/Monaco
BEGIN:DAYLIGHT
TZOFFSETFROM:+0100
TZOFFSETTO:+0200
TZNAME:CEST
DTSTART:20230326T010000
END:DAYLIGHT
BEGIN:STANDARD
TZOFFSETFROM:+0200
TZOFFSETTO:+0100
TZNAME:CET
DTSTART:20231029T010000
END:STANDARD
TZID:Europe/Helsinki
BEGIN:DAYLIGHT
TZOFFSETFROM:+0200
TZOFFSETTO:+0300
TZNAME:EEST
DTSTART:20230326T010000
END:DAYLIGHT
BEGIN:STANDARD
TZOFFSETFROM:+0300
TZOFFSETTO:+0200
TZNAME:EET
DTSTART:20231029T010000
END:STANDARD
TZID:Europe/London
BEGIN:DAYLIGHT
TZOFFSETFROM:+0000
TZOFFSETTO:+0100
TZNAME:BST
DTSTART:20170326T010000
END:DAYLIGHT
BEGIN:STANDARD
TZOFFSETFROM:+0100
TZOFFSETTO:+0000
TZNAME:GMT
DTSTART:20171029T010000
END:STANDARD
BEGIN:DAYLIGHT
TZOFFSETFROM:+0000
TZOFFSETTO:+0100
TZNAME:BST
DTSTART:20180325T010000
END:DAYLIGHT
BEGIN:STANDARD
TZOFFSETFROM:+0100
TZOFFSETTO:+0000
TZNAME:GMT
DTSTART:20181028T010000
END:STANDARD
BEGIN:DAYLIGHT
TZOFFSETFROM:+0000
TZOFFSETTO:+0100
TZNAME:BST
DTSTART:20190331T010000
END:DAYLIGHT
BEGIN:STANDARD
TZOFFSETFROM:+0100
TZOFFSETTO:+0000
TZNAME:GMT
DTSTART:20191027T010000
END:STANDARD
END:VTIMEZONE
BEGIN:VEVENT
DTSTART;TZID=Asia/Kolkata:20250211T120000
DTEND;TZID=Asia/Kolkata:20250214T170000
DTSTAMP:20260425T152352
CREATED:20250102T063733Z
LAST-MODIFIED:20250103T052337Z
UID:37364-1739275200-1739552400@wpsso.register-iri.com
SUMMARY:India Energy Week 2025
DESCRIPTION:
URL:https://wpsso.register-iri.com/event/india-energy-week-2025/
LOCATION:Yashobhoomi (IICC)\, Sector 25 Dwarka\,\, New Delhi\, 110061\, India
CATEGORIES:Conference,Exhibition,Convention
GEO:28.55142;77.04645
X-APPLE-STRUCTURED-LOCATION;VALUE=URI;X-ADDRESS=Yashobhoomi (IICC) Sector 25 Dwarka New Delhi 110061 India;X-APPLE-RADIUS=500;X-TITLE=Sector 25 Dwarka\,:geo:77.04645,28.55142
END:VEVENT
BEGIN:VEVENT
DTSTART;TZID=America/Halifax:20241023T073000
DTEND;TZID=America/Halifax:20241025T150000
DTSTAMP:20260425T152352
CREATED:20241001T101401Z
LAST-MODIFIED:20241009T051226Z
UID:35956-1729668600-1729868400@wpsso.register-iri.com
SUMMARY:2024 International Propeller Club Annual Convention
DESCRIPTION:
URL:https://wpsso.register-iri.com/event/2024-international-propeller-club-annual-convention/
LOCATION:Tampa Marriott Water Street\, 505 Water Street\, Tampa\, FL\, United States
CATEGORIES:Conference,Convention
END:VEVENT
BEGIN:VEVENT
DTSTART;TZID=Asia/Tokyo:20241015T080000
DTEND;TZID=Asia/Tokyo:20241015T170000
DTSTAMP:20260425T152352
CREATED:20240805T092602Z
LAST-MODIFIED:20240805T092602Z
UID:35167-1728979200-1729011600@wpsso.register-iri.com
SUMMARY:TradeWinds Shipowners Forum Japan 2024
DESCRIPTION:
URL:https://wpsso.register-iri.com/event/tradewinds-shipowners-forum-japan-2024/
LOCATION:Conrad Tokyo\, 1 Chome-9-１ Higashishinbashi\, Minato\, Tokyo\, 105-7337\, Japan
CATEGORIES:Convention
END:VEVENT
BEGIN:VEVENT
DTSTART;TZID=Europe/Madrid:20240903T090000
DTEND;TZID=Europe/Madrid:20240907T020000
DTSTAMP:20260425T152352
CREATED:20240705T072432Z
LAST-MODIFIED:20240820T073239Z
UID:34852-1725354000-1725674400@wpsso.register-iri.com
SUMMARY:AIJA 62nd International Young Lawyers' Congress\, Madrid
DESCRIPTION:
URL:https://wpsso.register-iri.com/event/aija-62nd-international-young-lawyers-congress-madrid/
LOCATION:Hotel Riu Plaza España\, Gran Vía\, 84\, Centro\, Madrid\, 28013\, Spain
CATEGORIES:Conference,Meeting,Convention,Seminar
END:VEVENT
BEGIN:VEVENT
DTSTART;TZID=America/New_York:20240422T064500
DTEND;TZID=America/New_York:20240425T163000
DTSTAMP:20260425T152352
CREATED:20240320T044816Z
LAST-MODIFIED:20240415T114119Z
UID:33305-1713768300-1714062600@wpsso.register-iri.com
SUMMARY:International Partnering Forum (IPF)
DESCRIPTION:
URL:https://wpsso.register-iri.com/event/international-partnering-forum-ipf/
LOCATION:Morial Convention Center\, 900 Convention Center Blvd\, New Orleans\, LA\, 70130\, United States
CATEGORIES:Conference,Convention
END:VEVENT
BEGIN:VEVENT
DTSTART;TZID=America/New_York:20240417T103000
DTEND;TZID=America/New_York:20240417T173000
DTSTAMP:20260425T152352
CREATED:20240305T132542Z
LAST-MODIFIED:20240402T071432Z
UID:33099-1713349800-1713375000@wpsso.register-iri.com
SUMMARY:TradeWinds Shipowners Forum USA 2024
DESCRIPTION:
URL:https://wpsso.register-iri.com/event/tradewinds-shipowners-forum-usa-2024/
LOCATION:New York Yacht Club\, 37 W 44th Street\, New York\, NY\, United States
CATEGORIES:Conference,Convention
END:VEVENT
BEGIN:VEVENT
DTSTART;TZID=Asia/Singapore:20240416T090000
DTEND;TZID=Asia/Singapore:20240416T170000
DTSTAMP:20260425T152352
CREATED:20240220T112907Z
LAST-MODIFIED:20240220T112948Z
UID:32954-1713258000-1713286800@wpsso.register-iri.com
SUMMARY:6th Annual Capital Link Singapore Maritime Forum
DESCRIPTION:
URL:https://wpsso.register-iri.com/event/6th-annual-capital-link-singapore-maritime-forum/
LOCATION:Fairmont Singapore\, 80 Bras Basah Road\,\, 189560\, Singapore
CATEGORIES:Conference,Meeting,Convention
END:VEVENT
BEGIN:VEVENT
DTSTART;TZID=Asia/Singapore:20240415T080000
DTEND;TZID=Asia/Singapore:20240419T170000
DTSTAMP:20260425T152352
CREATED:20240305T131803Z
LAST-MODIFIED:20240305T131827Z
UID:33094-1713168000-1713546000@wpsso.register-iri.com
SUMMARY:Singapore Maritime Week 2024
DESCRIPTION:
URL:https://wpsso.register-iri.com/event/singapore-maritime-week-2024/
LOCATION:Suntec Convention & Exhibition Centre\, 1 Raffles Blvd\,\, Singapore\, 039593\, Singapore
CATEGORIES:Conference,Convention
END:VEVENT
BEGIN:VEVENT
DTSTART;TZID=America/Halifax:20240408T094500
DTEND;TZID=America/Halifax:20240411T170000
DTSTAMP:20260425T152352
CREATED:20240220T111417Z
LAST-MODIFIED:20240321T064825Z
UID:32952-1712569500-1712854800@wpsso.register-iri.com
SUMMARY:Seatrade Cruise Global 2024
DESCRIPTION:
URL:https://wpsso.register-iri.com/event/seatrade-cruise-global-6/
LOCATION:Miami Beach Convention Center\, 1901 Convention Center Drive\, Miami\, FL\, 33139\, United States
CATEGORIES:Conference,Exhibition,Convention
END:VEVENT
BEGIN:VEVENT
DTSTART;VALUE=DATE:20240312
DTEND;VALUE=DATE:20240315
DTSTAMP:20260425T152352
CREATED:20240129T095617Z
LAST-MODIFIED:20240220T075856Z
UID:32640-1710201600-1710460799@wpsso.register-iri.com
SUMMARY:CMA Shipping 2024
DESCRIPTION:
URL:https://wpsso.register-iri.com/event/cma-shipping/
LOCATION:Hilton Stamford Hotel\, 1 First Stamford Place\, Stamford\, CT\, 06902\, United States
CATEGORIES:Conference,Exhibition,Convention
END:VEVENT
BEGIN:VEVENT
DTSTART;TZID=Europe/Paris:20240311T193000
DTEND;TZID=Europe/Paris:20240314T210000
DTSTAMP:20260425T152352
CREATED:20240117T105016Z
LAST-MODIFIED:20240307T051704Z
UID:32465-1710185400-1710450000@wpsso.register-iri.com
SUMMARY:CLIA Cruise Week Europe 2024
DESCRIPTION:
URL:https://wpsso.register-iri.com/event/clia-cruise-week-europe-2024/
LOCATION:Jean Nouvel Pavilion\, Via dei Pescatori\, 33\,\, Genova\, GE\, 16128\, Italy
CATEGORIES:Conference,Exhibition,Convention,Seminar
END:VEVENT
BEGIN:VEVENT
DTSTART;TZID=UTC:20231107T080000
DTEND;TZID=UTC:20231107T170000
DTSTAMP:20260425T152352
CREATED:20230922T115522Z
LAST-MODIFIED:20231027T072431Z
UID:30963-1699344000-1699376400@wpsso.register-iri.com
SUMMARY:Greener Shipping Summit 2023
DESCRIPTION:
URL:https://wpsso.register-iri.com/event/greener-shipping-summit-2023/
LOCATION:Eugenides Foundation\, Leof. Andrea Siggrou 387\, Paleo Faliro\, 175 64\, Greece
CATEGORIES:Convention,Seminar
END:VEVENT
BEGIN:VEVENT
DTSTART;TZID=UTC:20231102T080000
DTEND;TZID=UTC:20231102T170000
DTSTAMP:20260425T152352
CREATED:20230809T102933Z
LAST-MODIFIED:20231025T064429Z
UID:30124-1698912000-1698944400@wpsso.register-iri.com
SUMMARY:2023 Marine Money Korea Ship Finance Forum
DESCRIPTION:
URL:https://wpsso.register-iri.com/event/2023-korea-ship-finance-forum/
LOCATION:Paradise Hotel\, 296 Haeundae Beach Road\, Haeundae-gu\, Busan (Jungdong)\, Korea\, Republic of
CATEGORIES:Conference,Meeting,Convention
END:VEVENT
BEGIN:VEVENT
DTSTART;TZID=UTC:20231017T090000
DTEND;TZID=UTC:20231017T180000
DTSTAMP:20260425T152352
CREATED:20230808T111701Z
LAST-MODIFIED:20231010T061120Z
UID:30074-1697533200-1697565600@wpsso.register-iri.com
SUMMARY:2023 Greek Ship Finance Forum
DESCRIPTION:
URL:https://wpsso.register-iri.com/event/2023-greek-ship-finance-forum/
LOCATION:Eugenides Foundation\, Leof. Andrea Siggrou 387\, Paleo Faliro\, 175 64\, Greece
CATEGORIES:Conference,Convention
END:VEVENT
BEGIN:VEVENT
DTSTART;TZID=Asia/Singapore:20231011T123000
DTEND;TZID=Asia/Singapore:20231012T220000
DTSTAMP:20260425T152352
CREATED:20230808T105252Z
LAST-MODIFIED:20230925T053006Z
UID:30071-1697027400-1697148000@wpsso.register-iri.com
SUMMARY:TradeWinds Ship Recycling Forum 2023
DESCRIPTION:
URL:https://wpsso.register-iri.com/event/tradewinds-ship-recycling-forum-2023/
LOCATION:Swissotel The Stamford\, Singapore\, 2 Stamford Road\, Singapore\, 178882\, Singapore
CATEGORIES:Conference,Convention
END:VEVENT
BEGIN:VEVENT
DTSTART;TZID=America/New_York:20231010T080000
DTEND;TZID=America/New_York:20231010T170000
DTSTAMP:20260425T152352
CREATED:20230808T104150Z
LAST-MODIFIED:20230926T060214Z
UID:30069-1696924800-1696957200@wpsso.register-iri.com
SUMMARY:15th Annual Capital Link New York Maritime Forum
DESCRIPTION:
URL:https://wpsso.register-iri.com/event/15th-annual-capital-link-new-york-maritime-forum/
CATEGORIES:Conference,Convention
END:VEVENT
BEGIN:VEVENT
DTSTART;TZID=UTC:20231003T083000
DTEND;TZID=UTC:20231003T200000
DTSTAMP:20260425T152352
CREATED:20230808T072222Z
LAST-MODIFIED:20230925T094359Z
UID:30049-1696321800-1696363200@wpsso.register-iri.com
SUMMARY:13th Annual Capital Link Operational Excellence in Shipping Forum
DESCRIPTION:
URL:https://wpsso.register-iri.com/event/13th-annual-operational-excellence-in-shipping-forum/
LOCATION:Divani Caravel Hotel\, Leof. Vasileos Alexandrou 2\, Athens\, 161 21\, Greece
CATEGORIES:Conference,Convention
END:VEVENT
BEGIN:VEVENT
DTSTART;TZID=Europe/Monaco:20230929T170000
DTEND;TZID=Europe/Monaco:20230929T193000
DTSTAMP:20260425T152352
CREATED:20230808T065828Z
LAST-MODIFIED:20230914T113404Z
UID:30046-1696006800-1696015800@wpsso.register-iri.com
SUMMARY:5th Super Yacht Europe
DESCRIPTION:
URL:https://wpsso.register-iri.com/event/5th-super-yacht-europe/
LOCATION:Yacht Club De Monaco\, Quai Louis II\, Monaco\, 98000\, Monaco
CATEGORIES:Conference,Convention,Cocktail
END:VEVENT
BEGIN:VEVENT
DTSTART;TZID=Europe/Monaco:20230926T090000
DTEND;TZID=Europe/Monaco:20230926T180000
DTSTAMP:20260425T152352
CREATED:20230808T062940Z
LAST-MODIFIED:20230918T111426Z
UID:30036-1695718800-1695751200@wpsso.register-iri.com
SUMMARY:2023 Marine Money Monaco Superyacht Finance Forum
DESCRIPTION:
URL:https://wpsso.register-iri.com/event/2023-monaco-superyacht-finance-forum/
LOCATION:Le Méridien Beach Plaza\, 22 Av. Princesse Grâce\, Monaco\, 98000\, Monaco
CATEGORIES:Conference,Convention
END:VEVENT
BEGIN:VEVENT
DTSTART;VALUE=DATE:20230911
DTEND;VALUE=DATE:20230916
DTSTAMP:20260425T152352
CREATED:20230803T111607Z
LAST-MODIFIED:20230803T111735Z
UID:29973-1694390400-1694822399@wpsso.register-iri.com
SUMMARY:London International Shipping Week 2023
DESCRIPTION:London International Shipping Week
URL:https://wpsso.register-iri.com/event/london-international-shipping-week-2023/
CATEGORIES:Convention
END:VEVENT
BEGIN:VEVENT
DTSTART;VALUE=DATE:20230906
DTEND;VALUE=DATE:20230909
DTSTAMP:20260425T152352
CREATED:20230803T114359Z
LAST-MODIFIED:20230817T112100Z
UID:29988-1693958400-1694217599@wpsso.register-iri.com
SUMMARY:Seatrade Europe - Cruise & River Cruise Convention
DESCRIPTION:
URL:https://wpsso.register-iri.com/event/seatrade-cruise-river-cruise-convention/
CATEGORIES:Convention
END:VEVENT
BEGIN:VEVENT
DTSTART;VALUE=DATE:20230606
DTEND;VALUE=DATE:20230610
DTSTAMP:20260425T152352
CREATED:20230410T214812Z
LAST-MODIFIED:20230410T214812Z
UID:29101-1686009600-1686355199@wpsso.register-iri.com
SUMMARY:Nor-Shipping 2023
DESCRIPTION:
URL:https://wpsso.register-iri.com/event/nor-shipping-2023/
LOCATION:Lillestrøm\, Lillestrøm\, Norway
CATEGORIES:Convention
END:VEVENT
BEGIN:VEVENT
DTSTART;VALUE=DATE:20220606
DTEND;VALUE=DATE:20220611
DTSTAMP:20260425T152352
CREATED:20220215T144655Z
LAST-MODIFIED:20220525T204933Z
UID:24924-1654473600-1654905599@wpsso.register-iri.com
SUMMARY:Posidonia 2022
DESCRIPTION:
URL:https://wpsso.register-iri.com/event/posidonia-2022/
LOCATION:ATHENS METROPOLITAN EXPO A.E\, Athens International Airport "El. Venizelos"\, Spata\, 190 19\, Greece
CATEGORIES:Exhibition,Convention
END:VEVENT
BEGIN:VEVENT
DTSTART;VALUE=DATE:20211027
DTEND;VALUE=DATE:20211030
DTSTAMP:20260425T152352
CREATED:20210826T174234Z
LAST-MODIFIED:20210826T174234Z
UID:23224-1635292800-1635551999@wpsso.register-iri.com
SUMMARY:SNAME Maritime 2021 Convention
DESCRIPTION:
URL:https://wpsso.register-iri.com/event/sname-maritime-2021-convention/
LOCATION:Rhode Island Convention Center\, 1 Sabin St.\, Providence\, 02903\, United States
CATEGORIES:Conference,Convention
END:VEVENT
BEGIN:VEVENT
DTSTART;VALUE=DATE:20210927
DTEND;VALUE=DATE:20211001
DTSTAMP:20260425T152352
CREATED:20210802T151605Z
LAST-MODIFIED:20210802T151605Z
UID:23075-1632700800-1633046399@wpsso.register-iri.com
SUMMARY:Seatrade Cruise Global
DESCRIPTION:
URL:https://wpsso.register-iri.com/event/seatrade-cruise-global-4/
LOCATION:Miami Beach Convention Center\, 1901 Convention Center Drive\, Miami\, FL\, 33139\, United States
CATEGORIES:Exhibition,Convention
END:VEVENT
BEGIN:VEVENT
DTSTART;VALUE=DATE:20210913
DTEND;VALUE=DATE:20210918
DTSTAMP:20260425T152352
CREATED:20210603T190237Z
LAST-MODIFIED:20230803T111747Z
UID:22074-1631491200-1631923199@wpsso.register-iri.com
SUMMARY:London International Shipping Week - LISW21
DESCRIPTION:
URL:https://wpsso.register-iri.com/event/london-international-shipping-week-lisw21/
CATEGORIES:Convention
ORGANIZER;CN="Shipping Innovations":MAILTO:info@shippinginnovation.com
END:VEVENT
BEGIN:VEVENT
DTSTART;VALUE=DATE:20190911
DTEND;VALUE=DATE:20190914
DTSTAMP:20260425T152352
CREATED:20190620T000000Z
LAST-MODIFIED:20190620T000000Z
UID:17327-1568160000-1568419199@wpsso.register-iri.com
SUMMARY:Seatrade Europe
DESCRIPTION:
URL:https://wpsso.register-iri.com/event/seatrade-europe/
LOCATION:Hamburg Messe\, Messeplatz 1\, Hamburg\, 20357\, Germany
CATEGORIES:Convention
END:VEVENT
BEGIN:VEVENT
DTSTART;VALUE=DATE:20190402
DTEND;VALUE=DATE:20190409
DTSTAMP:20260425T152352
CREATED:20190222T000000Z
LAST-MODIFIED:20190222T000000Z
UID:17283-1554163200-1554767999@wpsso.register-iri.com
SUMMARY:CLIA Cruise 360
DESCRIPTION:
URL:https://wpsso.register-iri.com/event/clia-cruise-360/
LOCATION:Fort Lauderdale / Broward County Convention Center\, 1950 Eisenhower Blvd\, Fort Lauderdale\, FL\, 33316\, United States
CATEGORIES:Exhibition,Convention
END:VEVENT
BEGIN:VEVENT
DTSTART;VALUE=DATE:20170911
DTEND;VALUE=DATE:20170916
DTSTAMP:20260425T152352
CREATED:20170626T000000Z
LAST-MODIFIED:20170626T000000Z
UID:17143-1505088000-1505519999@wpsso.register-iri.com
SUMMARY:London International Shipping Week
DESCRIPTION:
URL:https://wpsso.register-iri.com/event/london-international-shipping-week/
CATEGORIES:Convention
END:VEVENT
BEGIN:VEVENT
DTSTART;VALUE=DATE:20170906
DTEND;VALUE=DATE:20170909
DTSTAMP:20260425T152352
CREATED:20170626T000000Z
LAST-MODIFIED:20170626T000000Z
UID:17142-1504656000-1504915199@wpsso.register-iri.com
SUMMARY:Seatrade Europe 2017
DESCRIPTION:
URL:https://wpsso.register-iri.com/event/seatrade-europe-2017/
LOCATION:Hamburg Messe\, Messeplatz 1\, Hamburg\, 20357\, Germany
CATEGORIES:Convention
END:VEVENT
END:VCALENDAR